3
0
0
-3
614925.006
4756935.392
