3
0
0
-3
609153.731
4756843.784
