3
0
0
-3
597611.181
4756697.212
