3
0
0
-3
565218.756
4756275.817
