3
0
0
-3
561902.564
4756220.853
