3
0
0
-3
539568.646
4755872.744
