3
0
0
-3
537351.744
4755854.423
