3
0
0
-3
597125.603
4747518.137
