3
0
0
-3
609767.443
4747664.709
