3
0
0
-3
626366.728
4747939.531
