3
0
0
-3
633677.01
4748012.817
