3
0
0
-3
645347.81
4748232.676
