3
0
0
-3
665538.111
4748562.463
