3
0
0
-3
667223.69
4748415.891
