3
0
0
-3
560601.737
4746803.598
