3
0
0
-3
552723.488
4746711.99
