3
0
0
-3
539770.183
4746528.775
