3
0
0
-3
536838.742
4746492.132
