3
0
0
-3
556690.036
4737661.166
