3
0
0
-3
559566.513
4737716.13
