3
0
0
-3
589613.785
4738064.239
