3
0
0
-3
622335.997
4738357.383
