3
0
0
-3
663412.816
4739053.6
