3
0
0
-3
637808.568
4728683.627
