3
0
0
-3
632495.331
4728683.627
