3
0
0
-3
615978.492
4728564.537
