3
0
0
-3
562443.048
4727904.963
