3
0
0
-3
553282.294
4727849.999
