3
0
0
-3
550882.177
4727795.034
