3
0
0
-3
524462.563
4727703.427
