3
0
0
-3
663522.804
4720100.001
