3
0
0
-3
657385.099
4720008.393
