3
0
0
-3
653702.476
4719935.107
