3
0
0
-3
651412.288
4719843.5
