3
0
0
-3
646721.982
4719715.249
