3
0
0
-3
644743.259
4719770.214
