3
0
0
-3
625798.82
4719550.356
