3
0
0
-3
613596.697
4719403.784
