3
0
0
-3
605095.517
4719293.855
