3
0
0
-3
562406.405
4718634.28
