3
0
0
-3
558393.995
4718560.994
