3
0
0
-3
552311.254
4718524.351
