3
0
0
-3
534887.501
4718359.458
