3
0
0
-3
544881.824
4709345.276
