3
0
0
-3
551440.924
4709455.205
