3
0
0
-3
561297.895
4709565.134
