3
0
0
-3
570935.008
4709638.42
