3
0
0
-3
631231.089
4710536.174
