3
0
0
-3
635417.553
4710581.978
