3
0
0
-3
657174.343
4711003.373
